BEGIN:VCALENDAR
VERSION:2.0
PRODID:-//Emir Kadri - ECPv6.15.14//NONSGML v1.0//EN
CALSCALE:GREGORIAN
METHOD:PUBLISH
X-WR-CALNAME:Emir Kadri
X-ORIGINAL-URL:https://emirkadri.com
X-WR-CALDESC:Events for Emir Kadri
REFRESH-INTERVAL;VALUE=DURATION:PT1H
X-Robots-Tag:noindex
X-PUBLISHED-TTL:PT1H
BEGIN:VTIMEZONE
TZID:Europe/London
BEGIN:DAYLIGHT
TZOFFSETFROM:+0000
TZOFFSETTO:+0100
TZNAME:BST
DTSTART:20250330T010000
END:DAYLIGHT
BEGIN:STANDARD
TZOFFSETFROM:+0100
TZOFFSETTO:+0000
TZNAME:GMT
DTSTART:20251026T010000
END:STANDARD
BEGIN:DAYLIGHT
TZOFFSETFROM:+0000
TZOFFSETTO:+0100
TZNAME:BST
DTSTART:20260329T010000
END:DAYLIGHT
BEGIN:STANDARD
TZOFFSETFROM:+0100
TZOFFSETTO:+0000
TZNAME:GMT
DTSTART:20261025T010000
END:STANDARD
BEGIN:DAYLIGHT
TZOFFSETFROM:+0000
TZOFFSETTO:+0100
TZNAME:BST
DTSTART:20270328T010000
END:DAYLIGHT
BEGIN:STANDARD
TZOFFSETFROM:+0100
TZOFFSETTO:+0000
TZNAME:GMT
DTSTART:20271031T010000
END:STANDARD
END:VTIMEZONE
BEGIN:VEVENT
DTSTART;TZID=Europe/London:20260129T080000
DTEND;TZID=Europe/London:20260129T170000
DTSTAMP:20260420T013219
CREATED:20260115T020032Z
LAST-MODIFIED:20260115T021135Z
UID:10000002-1769673600-1769706000@emirkadri.com
SUMMARY:Digital Transformation Training Session
DESCRIPTION:This training session provides an in-depth understanding of digital transformation and how organizations can leverage technology to drive efficiency\, innovation\, and growth. Participants will explore the latest trends in digital tools\, automation\, and data-driven decision-making\, while learning strategies to implement digital initiatives successfully within their teams and departments. \nAttendees will gain insights into the impact of emerging technologies on business processes\, customer experience\, and operational efficiency. Real-world case studies and practical frameworks will equip participants to navigate digital change confidently and contribute to their organization’s digital strategy. \nBy the end of the session\, participants will be empowered to: \n\n\nUnderstand key concepts and trends in digital transformation \n\n\nIdentify opportunities to integrate digital tools and processes \n\n\nImprove operational efficiency and customer engagement \n\n\nDrive innovation within their teams and departments \n\n\nManage change effectively in a digitally evolving workplace
URL:https://emirkadri.com/event/digital-transformation-training-session/
CATEGORIES:Digital Transformation Training Session
ATTACH;FMTTYPE=image/jpeg:https://emirkadri.com/wp-content/uploads/2026/01/images-1.jpg
END:VEVENT
END:VCALENDAR